BEGIN:VCALENDAR
VERSION:2.0
PRODID:-//UTBM Innovation Crunch Lab - ECPv6.15.20//NONSGML v1.0//EN
CALSCALE:GREGORIAN
METHOD:PUBLISH
X-WR-CALNAME:UTBM Innovation Crunch Lab
X-ORIGINAL-URL:https://openlab.utbm.fr
X-WR-CALDESC:Évènements pour UTBM Innovation Crunch Lab
REFRESH-INTERVAL;VALUE=DURATION:PT1H
X-Robots-Tag:noindex
X-PUBLISHED-TTL:PT1H
BEGIN:VTIMEZONE
TZID:Europe/Paris
BEGIN:DAYLIGHT
TZOFFSETFROM:+0100
TZOFFSETTO:+0200
TZNAME:CEST
DTSTART:20190331T010000
END:DAYLIGHT
BEGIN:STANDARD
TZOFFSETFROM:+0200
TZOFFSETTO:+0100
TZNAME:CET
DTSTART:20191027T010000
END:STANDARD
BEGIN:DAYLIGHT
TZOFFSETFROM:+0100
TZOFFSETTO:+0200
TZNAME:CEST
DTSTART:20200329T010000
END:DAYLIGHT
BEGIN:STANDARD
TZOFFSETFROM:+0200
TZOFFSETTO:+0100
TZNAME:CET
DTSTART:20201025T010000
END:STANDARD
BEGIN:DAYLIGHT
TZOFFSETFROM:+0100
TZOFFSETTO:+0200
TZNAME:CEST
DTSTART:20210328T010000
END:DAYLIGHT
BEGIN:STANDARD
TZOFFSETFROM:+0200
TZOFFSETTO:+0100
TZNAME:CET
DTSTART:20211031T010000
END:STANDARD
END:VTIMEZONE
BEGIN:VEVENT
DTSTART;VALUE=DATE:20200723
DTEND;VALUE=DATE:20200817
DTSTAMP:20260424T205901
CREATED:20200717T125935Z
LAST-MODIFIED:20200717T125958Z
UID:1602-1595462400-1597622399@openlab.utbm.fr
SUMMARY:Fermeture estivale
DESCRIPTION:L’UTBM Innovation Crunch Lab sera fermé du jeudi 23 juillet au dimanche 16 août inclus. Alors profitez de l’été pour réfléchir à des projets et nous serons ravis de vous accompagner dans vos initiatives à compter du lundi 17 août.
URL:https://openlab.utbm.fr/event/fermeture-estivale-2020/
LOCATION:UTBM Innovation CRUNCH Lab\, 9 rue Becquerel\, Bâtiment 14\, BELFORT\, 90000\, France
CATEGORIES:Fermeture
ATTACH;FMTTYPE=image/jpeg:https://openlab.utbm.fr/wp-content/uploads/Fermeture.jpg
ORGANIZER;CN="UTBM Innovation CRUNCH Lab":MAILTO:contact.crunchlab@utbm.fr
END:VEVENT
END:VCALENDAR