BEGIN:VCALENDAR
VERSION:2.0
PRODID:-//UTBM Innovation Crunch Lab - ECPv6.15.20//NONSGML v1.0//EN
CALSCALE:GREGORIAN
METHOD:PUBLISH
X-WR-CALNAME:UTBM Innovation Crunch Lab
X-ORIGINAL-URL:https://openlab.utbm.fr
X-WR-CALDESC:Évènements pour UTBM Innovation Crunch Lab
REFRESH-INTERVAL;VALUE=DURATION:PT1H
X-Robots-Tag:noindex
X-PUBLISHED-TTL:PT1H
BEGIN:VTIMEZONE
TZID:Europe/Paris
BEGIN:DAYLIGHT
TZOFFSETFROM:+0100
TZOFFSETTO:+0200
TZNAME:CEST
DTSTART:20190331T010000
END:DAYLIGHT
BEGIN:STANDARD
TZOFFSETFROM:+0200
TZOFFSETTO:+0100
TZNAME:CET
DTSTART:20191027T010000
END:STANDARD
BEGIN:DAYLIGHT
TZOFFSETFROM:+0100
TZOFFSETTO:+0200
TZNAME:CEST
DTSTART:20200329T010000
END:DAYLIGHT
BEGIN:STANDARD
TZOFFSETFROM:+0200
TZOFFSETTO:+0100
TZNAME:CET
DTSTART:20201025T010000
END:STANDARD
BEGIN:DAYLIGHT
TZOFFSETFROM:+0100
TZOFFSETTO:+0200
TZNAME:CEST
DTSTART:20210328T010000
END:DAYLIGHT
BEGIN:STANDARD
TZOFFSETFROM:+0200
TZOFFSETTO:+0100
TZNAME:CET
DTSTART:20211031T010000
END:STANDARD
END:VTIMEZONE
BEGIN:VEVENT
DTSTART;TZID=Europe/Paris:20200305T180000
DTEND;TZID=Europe/Paris:20200305T220000
DTSTAMP:20260424T140622
CREATED:20200218T141005Z
LAST-MODIFIED:20200218T141005Z
UID:1217-1583431200-1583445600@openlab.utbm.fr
SUMMARY:Crunch Night\, ouverture jusqu’à 22h
DESCRIPTION:Ouverture étendue jusqu’à 22h pour les adhérents le jeudi 5 mars 2020
URL:https://openlab.utbm.fr/event/crunch-night-05-03-2020/
LOCATION:UTBM Innovation CRUNCH Lab\, 9 rue Becquerel\, Bâtiment 14\, BELFORT\, 90000\, France
CATEGORIES:Crunch Night
ATTACH;FMTTYPE=image/jpeg:https://openlab.utbm.fr/wp-content/uploads/LOGOCRUNCHLAB-QUADRI.jpg
ORGANIZER;CN="UTBM Innovation CRUNCH Lab":MAILTO:contact.crunchlab@utbm.fr
END:VEVENT
BEGIN:VEVENT
DTSTART;TZID=Europe/Paris:20200312T180000
DTEND;TZID=Europe/Paris:20200312T220000
DTSTAMP:20260424T140622
CREATED:20200218T141234Z
LAST-MODIFIED:20200218T141234Z
UID:1219-1584036000-1584050400@openlab.utbm.fr
SUMMARY:Crunch Night\, ouverture jusqu’à 22h
DESCRIPTION:Ouverture étendue jusqu’à 22h pour les adhérents le jeudi 12 mars 2020
URL:https://openlab.utbm.fr/event/crunch-night-12-03-2020/
LOCATION:UTBM Innovation CRUNCH Lab\, 9 rue Becquerel\, Bâtiment 14\, BELFORT\, 90000\, France
CATEGORIES:Crunch Night
ATTACH;FMTTYPE=image/jpeg:https://openlab.utbm.fr/wp-content/uploads/LOGOCRUNCHLAB-QUADRI.jpg
ORGANIZER;CN="UTBM Innovation CRUNCH Lab":MAILTO:contact.crunchlab@utbm.fr
END:VEVENT
END:VCALENDAR