BEGIN:VCALENDAR
VERSION:2.0
PRODID:-//UTBM Innovation Crunch Lab - ECPv6.15.20//NONSGML v1.0//EN
CALSCALE:GREGORIAN
METHOD:PUBLISH
X-ORIGINAL-URL:https://openlab.utbm.fr
X-WR-CALDESC:Évènements pour UTBM Innovation Crunch Lab
REFRESH-INTERVAL;VALUE=DURATION:PT1H
X-Robots-Tag:noindex
X-PUBLISHED-TTL:PT1H
BEGIN:VTIMEZONE
TZID:Europe/Paris
BEGIN:DAYLIGHT
TZOFFSETFROM:+0100
TZOFFSETTO:+0200
TZNAME:CEST
DTSTART:20190331T010000
END:DAYLIGHT
BEGIN:STANDARD
TZOFFSETFROM:+0200
TZOFFSETTO:+0100
TZNAME:CET
DTSTART:20191027T010000
END:STANDARD
BEGIN:DAYLIGHT
TZOFFSETFROM:+0100
TZOFFSETTO:+0200
TZNAME:CEST
DTSTART:20200329T010000
END:DAYLIGHT
BEGIN:STANDARD
TZOFFSETFROM:+0200
TZOFFSETTO:+0100
TZNAME:CET
DTSTART:20201025T010000
END:STANDARD
BEGIN:DAYLIGHT
TZOFFSETFROM:+0100
TZOFFSETTO:+0200
TZNAME:CEST
DTSTART:20210328T010000
END:DAYLIGHT
BEGIN:STANDARD
TZOFFSETFROM:+0200
TZOFFSETTO:+0100
TZNAME:CET
DTSTART:20211031T010000
END:STANDARD
END:VTIMEZONE
BEGIN:VEVENT
DTSTART;TZID=Europe/Paris:20200206T160000
DTEND;TZID=Europe/Paris:20200206T200000
DTSTAMP:20260424T122235
CREATED:20200108T165654Z
LAST-MODIFIED:20200120T110239Z
UID:1070-1581004800-1581019200@openlab.utbm.fr
SUMMARY:Soirée de lancement UTBM Innovation Crunch Time 2020
DESCRIPTION:Événement ouvert aux professionnels uniquement (Entreprises\, association\, collectivités) \nLa quatrième édition de l’UTBM Innovation CRUNCH Time se tiendra du 25 au 28 mai 2020 à l’Axone de Montbéliard et réunira plus de 1600 étudiants de l’UTBM et d’établissements partenaires (ESTA\, HE-ARC\, etc.)\, 300 partenaires et 200 membres du personnel UTBM. \nLa campagne de dépôt des sujets débutera officiellement le jeudi 6 février. \nA cette occasion\, nous avons le plaisir de vous convier à la soirée de lancement de l’UTBM Innovation Crunch Time 2020\, jeudi 6 février à partir de 16h00 \nAu programme de cette soirée : \n16h00           Accueil des participants\n16h30           Accueil par Ghislain MONTAVON\, Directeur de l’UTBM\n16h45           Rétrospective de l’édition 2019\n17h00           Nouveautés 2020\n17h30           Atelier pour la mise en forme de vos éventuels sujets*\n19h00           Cocktail \n*N’hésitez pas à emporter avec vous vos premières idées de sujets ; à la demande d’un certain nombre d’entre vous\, plusieurs membres de l’équipe pédagogique seront présents pour vous aider à reformuler vos sujets si nécessaire.  \nInscription avant le 24 janvier 2020\, via le formulaire en ligne :  http://enquetes.utbm.fr/index.php/285776?lang=fr
URL:https://openlab.utbm.fr/event/prepa-crunch-time-2020/
LOCATION:UTBM Innovation CRUNCH Lab\, 9 rue Becquerel\, Bâtiment 14\, BELFORT\, 90000\, France
ATTACH;FMTTYPE=image/jpeg:https://openlab.utbm.fr/wp-content/uploads/crunch2.jpg
ORGANIZER;CN="UTBM Innovation CRUNCH Lab":MAILTO:contact.crunchlab@utbm.fr
END:VEVENT
BEGIN:VEVENT
DTSTART;VALUE=DATE:20200214
DTEND;VALUE=DATE:20200215
DTSTAMP:20260424T122235
CREATED:20200207T155349Z
LAST-MODIFIED:20200207T155349Z
UID:1197-1581638400-1581724799@openlab.utbm.fr
SUMMARY:Fermeture exceptionnelle
DESCRIPTION:Nous serons exceptionnellement fermés le vendredi 14 février toute la journée. \nMerci de votre compréhension
URL:https://openlab.utbm.fr/event/fermeture-exceptionnelle-14-02-2020/
LOCATION:UTBM Innovation CRUNCH Lab\, 9 rue Becquerel\, Bâtiment 14\, BELFORT\, 90000\, France
CATEGORIES:Fermeture
ATTACH;FMTTYPE=image/jpeg:https://openlab.utbm.fr/wp-content/uploads/Fermeture.jpg
ORGANIZER;CN="UTBM Innovation CRUNCH Lab":MAILTO:contact.crunchlab@utbm.fr
END:VEVENT
BEGIN:VEVENT
DTSTART;TZID=Europe/Paris:20200220T160000
DTEND;TZID=Europe/Paris:20200220T180000
DTSTAMP:20260424T122235
CREATED:20200130T142649Z
LAST-MODIFIED:20200130T142701Z
UID:1189-1582214400-1582221600@openlab.utbm.fr
SUMMARY:Atelier découverte Pro "Développer une application de Réalité Virtuelle"
DESCRIPTION:L’UTBM Innovation CRUNCH Lab vous propose un Atelier découverte Pro sur le thème « Développer une application de la Réalité Virtuelle » \nle jeudi 20 février 2020 de 16h à 18h dans nos locaux (campus de Belfort). \nCet atelier\, à destination des professionnels\, vous donnera l’occasion de découvrir les outils matériels et logiciels pour réaliser une application de RV. \nCet événement sera également l’occasion pour les professionnels d’échanger avec des retours d’expérience et des démonstrations. \nAfin d’organiser au mieux cet atelier\, nous vous remercions de bien vouloir vous inscrire via le formulaire suivant : \nhttps://enquetes.utbm.fr/index.php/116854?lang=fr \nAtelier gratuit et ouvert à tous
URL:https://openlab.utbm.fr/event/atelier-decouverte-pro-developper-une-application-de-realite-virtuelle/
LOCATION:UTBM Innovation CRUNCH Lab\, 9 rue Becquerel\, Bâtiment 14\, BELFORT\, 90000\, France
CATEGORIES:Crunch Meetup
ATTACH;FMTTYPE=image/png:https://openlab.utbm.fr/wp-content/uploads/atelier-decouverte-pro-rv.png
ORGANIZER;CN="UTBM Innovation CRUNCH Lab":MAILTO:contact.crunchlab@utbm.fr
END:VEVENT
BEGIN:VEVENT
DTSTART;TZID=Europe/Paris:20200220T180000
DTEND;TZID=Europe/Paris:20200220T220000
DTSTAMP:20260424T122235
CREATED:20200108T165827Z
LAST-MODIFIED:20200108T165827Z
UID:1072-1582221600-1582236000@openlab.utbm.fr
SUMMARY:Crunch Night\, ouverture jusqu'à 22h
DESCRIPTION:Le jeudi 20 février 2020\, ouverture jusqu’à 22h pour les adhérents
URL:https://openlab.utbm.fr/event/crunch-night-20-02-2020/
LOCATION:UTBM Innovation CRUNCH Lab\, 9 rue Becquerel\, Bâtiment 14\, BELFORT\, 90000\, France
CATEGORIES:Crunch Night
ATTACH;FMTTYPE=image/jpeg:https://openlab.utbm.fr/wp-content/uploads/LOGOCRUNCHLAB-QUADRI.jpg
ORGANIZER;CN="UTBM Innovation CRUNCH Lab":MAILTO:contact.crunchlab@utbm.fr
END:VEVENT
BEGIN:VEVENT
DTSTART;TZID=Europe/Paris:20200227T193000
DTEND;TZID=Europe/Paris:20200227T220000
DTSTAMP:20260424T122235
CREATED:20200210T110142Z
LAST-MODIFIED:20200212T095315Z
UID:1206-1582831800-1582840800@openlab.utbm.fr
SUMMARY:Atelier découverte "Fusion 360"
DESCRIPTION:Dans le cadre de ses ateliers découvertes\, l’UTBM Innovation CRUNCH Lab propose à ses adhérents une initiation au logiciel Autodesk Fusion 360 \nle jeudi 27 février de 19h30 à 22h00 \nFusion 360 est un outil complet de CAO (Conception Assistée par Ordinateur) paramétrique développé par Autodesk. Cet outil est destiné à dessiner et concevoir des pièces 3D aussi bien mécaniques que stylistiques. \nL’objectif de cet atelier sera de découvrir le logiciel et de réaliser ses premières pièces en 3D. L’atelier s’adresse aussi bien aux personnes débutantes qu’aux personnes souhaitant se perfectionner. \nLe tarif de cet atelier est de 15€ (payable en espèce\, chèque ou CB) + Adhésion obligatoire \nPour vous inscrire\, remplissez simplement ce formulaire : \nhttps://enquetes.utbm.fr/index.php/745297?lang=fr
URL:https://openlab.utbm.fr/event/atelier-decouverte-fusion-360-27-02-2020/
LOCATION:UTBM Innovation CRUNCH Lab\, 9 rue Becquerel\, Bâtiment 14\, BELFORT\, 90000\, France
CATEGORIES:Crunch Atelier
ATTACH;FMTTYPE=image/png:https://openlab.utbm.fr/wp-content/uploads/20200227-FUSION-360-VISUELS-RESEAUX.png
ORGANIZER;CN="UTBM Innovation CRUNCH Lab":MAILTO:contact.crunchlab@utbm.fr
END:VEVENT
BEGIN:VEVENT
DTSTART;TZID=Europe/Paris:20200229T100000
DTEND;TZID=Europe/Paris:20200229T170000
DTSTAMP:20260424T122235
CREATED:20200108T170619Z
LAST-MODIFIED:20200108T170652Z
UID:1077-1582970400-1582995600@openlab.utbm.fr
SUMMARY:Journée Porte Ouverte UTBM
DESCRIPTION:Venez découvrir l’UTBM Innovation Crunch Lab et l’UTBM Innovation Crunch Time lors de la deuxième Journée Porte Ouverte de l’UTBM \nLe samedi 29 février de 10h à 17h à l’UTBM\, site de Sevenans
URL:https://openlab.utbm.fr/event/jpo-utbm-29-02-2020/
LOCATION:UTBM – Campus de Sevenans\, Rue de Leupe\, Sevenans\, 90400\, France
CATEGORIES:Manifestation
ATTACH;FMTTYPE=image/png:https://openlab.utbm.fr/wp-content/uploads/JPO_UTBM_2020-825x460-1.png
END:VEVENT
END:VCALENDAR