BEGIN:VCALENDAR
VERSION:2.0
PRODID:-//UTBM Innovation Crunch Lab - ECPv6.15.20//NONSGML v1.0//EN
CALSCALE:GREGORIAN
METHOD:PUBLISH
X-ORIGINAL-URL:https://openlab.utbm.fr
X-WR-CALDESC:Évènements pour UTBM Innovation Crunch Lab
REFRESH-INTERVAL;VALUE=DURATION:PT1H
X-Robots-Tag:noindex
X-PUBLISHED-TTL:PT1H
BEGIN:VTIMEZONE
TZID:Europe/Paris
BEGIN:DAYLIGHT
TZOFFSETFROM:+0100
TZOFFSETTO:+0200
TZNAME:CEST
DTSTART:20190331T010000
END:DAYLIGHT
BEGIN:STANDARD
TZOFFSETFROM:+0200
TZOFFSETTO:+0100
TZNAME:CET
DTSTART:20191027T010000
END:STANDARD
BEGIN:DAYLIGHT
TZOFFSETFROM:+0100
TZOFFSETTO:+0200
TZNAME:CEST
DTSTART:20200329T010000
END:DAYLIGHT
BEGIN:STANDARD
TZOFFSETFROM:+0200
TZOFFSETTO:+0100
TZNAME:CET
DTSTART:20201025T010000
END:STANDARD
BEGIN:DAYLIGHT
TZOFFSETFROM:+0100
TZOFFSETTO:+0200
TZNAME:CEST
DTSTART:20210328T010000
END:DAYLIGHT
BEGIN:STANDARD
TZOFFSETFROM:+0200
TZOFFSETTO:+0100
TZNAME:CET
DTSTART:20211031T010000
END:STANDARD
END:VTIMEZONE
BEGIN:VEVENT
DTSTART;TZID=Europe/Paris:20200109T180000
DTEND;TZID=Europe/Paris:20200109T220000
DTSTAMP:20260424T122235
CREATED:20200106T081948Z
LAST-MODIFIED:20200108T165409Z
UID:1059-1578592800-1578607200@openlab.utbm.fr
SUMMARY:Crunch Night\, ouverture jusqu'à 22h
DESCRIPTION:Ouverture étendue jusqu’à 22h pour les adhérents le jeudi 9 janvier 2020
URL:https://openlab.utbm.fr/event/crunch-night-09-01-2020/
LOCATION:UTBM Innovation CRUNCH Lab\, 9 rue Becquerel\, Bâtiment 14\, BELFORT\, 90000\, France
CATEGORIES:Crunch Night
ATTACH;FMTTYPE=image/jpeg:https://openlab.utbm.fr/wp-content/uploads/LOGOCRUNCHLAB-QUADRI.jpg
ORGANIZER;CN="UTBM Innovation CRUNCH Lab":MAILTO:contact.crunchlab@utbm.fr
END:VEVENT
BEGIN:VEVENT
DTSTART;TZID=Europe/Paris:20200118T100000
DTEND;TZID=Europe/Paris:20200118T170000
DTSTAMP:20260424T122235
CREATED:20200108T170458Z
LAST-MODIFIED:20200108T170710Z
UID:1074-1579341600-1579366800@openlab.utbm.fr
SUMMARY:Journée Portes Ouvertes UTBM
DESCRIPTION:Venez découvrir l’UTBM Innovation Crunch Lab et l’UTBM Innovation Crunch Time lors de la première Journée Porte Ouverte de l’UTBM \nLe samedi 18 janvier de 10h à 17h à l’UTBM\, site de Sevenans
URL:https://openlab.utbm.fr/event/jpo-utbm-18-01-2020/
LOCATION:UTBM – Campus de Sevenans\, Rue de Leupe\, Sevenans\, 90400\, France
CATEGORIES:Manifestation
ATTACH;FMTTYPE=image/png:https://openlab.utbm.fr/wp-content/uploads/JPO_UTBM_2020-825x460-1.png
END:VEVENT
BEGIN:VEVENT
DTSTART;TZID=Europe/Paris:20200123T180000
DTEND;TZID=Europe/Paris:20200123T220000
DTSTAMP:20260424T122235
CREATED:20200108T165308Z
LAST-MODIFIED:20200109T125003Z
UID:1063-1579802400-1579816800@openlab.utbm.fr
SUMMARY:Crunch Night spéciale Open Galette\, sur inscription
DESCRIPTION:Pour fêter cette nouvelle année\, l’équipe de l’UTBM Innovation CRUNCH Lab vous invite à partager la traditionnelle galette des rois\, le jeudi 23 janvier à partir de 18h. \nAfin de nous permettre d’organiser au mieux ce moment d’échanges et de convivialité\, nous vous remercions de bien vouloir vous inscrire via le formulaire suivant : http://enquetes.utbm.fr/index.php/564429?lang=fr
URL:https://openlab.utbm.fr/event/crunch-night-open-galette-23-01-2020/
LOCATION:UTBM Innovation CRUNCH Lab\, 9 rue Becquerel\, Bâtiment 14\, BELFORT\, 90000\, France
CATEGORIES:Crunch Night,Manifestation
ATTACH;FMTTYPE=image/jpeg:https://openlab.utbm.fr/wp-content/uploads/galette-des-rois-frangipane-rhum.jpg
ORGANIZER;CN="UTBM Innovation CRUNCH Lab":MAILTO:contact.crunchlab@utbm.fr
END:VEVENT
END:VCALENDAR