BEGIN:VCALENDAR
VERSION:2.0
PRODID:-//UTBM Innovation Crunch Lab - ECPv6.15.20//NONSGML v1.0//EN
CALSCALE:GREGORIAN
METHOD:PUBLISH
X-WR-CALNAME:UTBM Innovation Crunch Lab
X-ORIGINAL-URL:https://openlab.utbm.fr
X-WR-CALDESC:Évènements pour UTBM Innovation Crunch Lab
REFRESH-INTERVAL;VALUE=DURATION:PT1H
X-Robots-Tag:noindex
X-PUBLISHED-TTL:PT1H
BEGIN:VTIMEZONE
TZID:Europe/Paris
BEGIN:DAYLIGHT
TZOFFSETFROM:+0100
TZOFFSETTO:+0200
TZNAME:CEST
DTSTART:20190331T010000
END:DAYLIGHT
BEGIN:STANDARD
TZOFFSETFROM:+0200
TZOFFSETTO:+0100
TZNAME:CET
DTSTART:20191027T010000
END:STANDARD
BEGIN:DAYLIGHT
TZOFFSETFROM:+0100
TZOFFSETTO:+0200
TZNAME:CEST
DTSTART:20200329T010000
END:DAYLIGHT
BEGIN:STANDARD
TZOFFSETFROM:+0200
TZOFFSETTO:+0100
TZNAME:CET
DTSTART:20201025T010000
END:STANDARD
BEGIN:DAYLIGHT
TZOFFSETFROM:+0100
TZOFFSETTO:+0200
TZNAME:CEST
DTSTART:20210328T010000
END:DAYLIGHT
BEGIN:STANDARD
TZOFFSETFROM:+0200
TZOFFSETTO:+0100
TZNAME:CET
DTSTART:20211031T010000
END:STANDARD
END:VTIMEZONE
BEGIN:VEVENT
DTSTART;TZID=Europe/Paris:20201001T160000
DTEND;TZID=Europe/Paris:20201001T190000
DTSTAMP:20260425T002214
CREATED:20200910T135747Z
LAST-MODIFIED:20200910T135747Z
UID:1673-1601568000-1601578800@openlab.utbm.fr
SUMMARY:[Crunch Meetup] Le Design Thinking
DESCRIPTION:L’UTBM Innovation Crunch Lab vous propose un Crunch Meetup sur le thème du Design Thinking \nle jeudi 1er octobre 2020 de 16h à 19h \nPour répondre à vos défis et résoudre vos problématiques grâce à l’intelligence collective\, venez découvrir les méthodes et outils du Design Thinking. \nCet événement est à destination des professionnels\, des étudiants et de nos adhérents et il aura lieu dans nos locaux. \nPour y participer\, remplissez simplement ce formulaire : \nhttps://forms.office.com/Pages/ResponsePage.aspx?id=WfMuUNgvSE-ET-88eYuquMnDh1mIMRBIsvGY9lBVOzlURFYzUVExVVBZTkVKNk5MTkQzSEw0TUlXRy4u
URL:https://openlab.utbm.fr/event/crunch-meetup-design-thinking-01-10-2020/
LOCATION:UTBM Innovation CRUNCH Lab\, 9 rue Becquerel\, Bâtiment 14\, BELFORT\, 90000\, France
CATEGORIES:Crunch Meetup
ATTACH;FMTTYPE=image/png:https://openlab.utbm.fr/wp-content/uploads/20201001-DESIGN-THINKING-RESEAUX.png
ORGANIZER;CN="UTBM Innovation CRUNCH Lab":MAILTO:contact.crunchlab@utbm.fr
END:VEVENT
BEGIN:VEVENT
DTSTART;TZID=Europe/Paris:20201001T180000
DTEND;TZID=Europe/Paris:20201001T220000
DTSTAMP:20260425T002214
CREATED:20200901T085500Z
LAST-MODIFIED:20200901T085500Z
UID:1628-1601575200-1601589600@openlab.utbm.fr
SUMMARY:Crunch Night
DESCRIPTION:Ouverture étendue jusqu’à 22h pour les adhérents. \nPrises de rendez-vous depuis la page d’accueil.
URL:https://openlab.utbm.fr/event/crunch-night-01-10-2020/
LOCATION:UTBM Innovation CRUNCH Lab\, 9 rue Becquerel\, Bâtiment 14\, BELFORT\, 90000\, France
CATEGORIES:Crunch Night
ATTACH;FMTTYPE=image/jpeg:https://openlab.utbm.fr/wp-content/uploads/crunch-night.jpg
ORGANIZER;CN="UTBM Innovation CRUNCH Lab":MAILTO:contact.crunchlab@utbm.fr
END:VEVENT
END:VCALENDAR