BEGIN:VCALENDAR
VERSION:2.0
PRODID:-//UTBM Innovation Crunch Lab - ECPv6.15.20//NONSGML v1.0//EN
CALSCALE:GREGORIAN
METHOD:PUBLISH
X-ORIGINAL-URL:https://openlab.utbm.fr
X-WR-CALDESC:Évènements pour UTBM Innovation Crunch Lab
REFRESH-INTERVAL;VALUE=DURATION:PT1H
X-Robots-Tag:noindex
X-PUBLISHED-TTL:PT1H
BEGIN:VTIMEZONE
TZID:Europe/Paris
BEGIN:DAYLIGHT
TZOFFSETFROM:+0100
TZOFFSETTO:+0200
TZNAME:CEST
DTSTART:20180325T010000
END:DAYLIGHT
BEGIN:STANDARD
TZOFFSETFROM:+0200
TZOFFSETTO:+0100
TZNAME:CET
DTSTART:20181028T010000
END:STANDARD
BEGIN:DAYLIGHT
TZOFFSETFROM:+0100
TZOFFSETTO:+0200
TZNAME:CEST
DTSTART:20190331T010000
END:DAYLIGHT
BEGIN:STANDARD
TZOFFSETFROM:+0200
TZOFFSETTO:+0100
TZNAME:CET
DTSTART:20191027T010000
END:STANDARD
BEGIN:DAYLIGHT
TZOFFSETFROM:+0100
TZOFFSETTO:+0200
TZNAME:CEST
DTSTART:20200329T010000
END:DAYLIGHT
BEGIN:STANDARD
TZOFFSETFROM:+0200
TZOFFSETTO:+0100
TZNAME:CET
DTSTART:20201025T010000
END:STANDARD
END:VTIMEZONE
BEGIN:VEVENT
DTSTART;TZID=Europe/Paris:20191219T180000
DTEND;TZID=Europe/Paris:20191219T220000
DTSTAMP:20260426T051501
CREATED:20191118T082049Z
LAST-MODIFIED:20191118T082049Z
UID:971-1576778400-1576792800@openlab.utbm.fr
SUMMARY:Crunch Night
DESCRIPTION:Ouverture étendue jusqu’à 22h pour les adhérents le jeudi 19 décembre 2019 \nAccès libre sans rendez-vous
URL:https://openlab.utbm.fr/event/crunch-night-19-12-2019/
LOCATION:UTBM Innovation CRUNCH Lab\, 9 rue Becquerel\, Bâtiment 14\, BELFORT\, 90000\, France
CATEGORIES:Crunch Night
ATTACH;FMTTYPE=image/jpeg:https://openlab.utbm.fr/wp-content/uploads/LOGOCRUNCHLAB-QUADRI.jpg
ORGANIZER;CN="UTBM Innovation CRUNCH Lab":MAILTO:contact.crunchlab@utbm.fr
END:VEVENT
END:VCALENDAR